BEGIN:VCALENDAR
VERSION:2.0
PRODID:-//ELINKEINOA JA LIIKETOIMINTAA RUOKAKETJUSSA - ELLI - ECPv6.15.20//NONSGML v1.0//EN
CALSCALE:GREGORIAN
METHOD:PUBLISH
X-ORIGINAL-URL:https://ruokaketjuelli.fi
X-WR-CALDESC:Tapahtumat ELINKEINOA JA LIIKETOIMINTAA RUOKAKETJUSSA - ELLI
REFRESH-INTERVAL;VALUE=DURATION:PT1H
X-Robots-Tag:noindex
X-PUBLISHED-TTL:PT1H
BEGIN:VTIMEZONE
TZID:Europe/Helsinki
BEGIN:DAYLIGHT
TZOFFSETFROM:+0200
TZOFFSETTO:+0300
TZNAME:EEST
DTSTART:20200329T010000
END:DAYLIGHT
BEGIN:STANDARD
TZOFFSETFROM:+0300
TZOFFSETTO:+0200
TZNAME:EET
DTSTART:20201025T010000
END:STANDARD
BEGIN:DAYLIGHT
TZOFFSETFROM:+0200
TZOFFSETTO:+0300
TZNAME:EEST
DTSTART:20210328T010000
END:DAYLIGHT
BEGIN:STANDARD
TZOFFSETFROM:+0300
TZOFFSETTO:+0200
TZNAME:EET
DTSTART:20211031T010000
END:STANDARD
BEGIN:DAYLIGHT
TZOFFSETFROM:+0200
TZOFFSETTO:+0300
TZNAME:EEST
DTSTART:20220327T010000
END:DAYLIGHT
BEGIN:STANDARD
TZOFFSETFROM:+0300
TZOFFSETTO:+0200
TZNAME:EET
DTSTART:20221030T010000
END:STANDARD
BEGIN:DAYLIGHT
TZOFFSETFROM:+0200
TZOFFSETTO:+0300
TZNAME:EEST
DTSTART:20230326T010000
END:DAYLIGHT
BEGIN:STANDARD
TZOFFSETFROM:+0300
TZOFFSETTO:+0200
TZNAME:EET
DTSTART:20231029T010000
END:STANDARD
END:VTIMEZONE
BEGIN:VEVENT
DTSTART;TZID=Europe/Helsinki:20221117T100000
DTEND;TZID=Europe/Helsinki:20221117T150000
DTSTAMP:20260424T132148
CREATED:20221012T082515Z
LAST-MODIFIED:20221012T082515Z
UID:1297-1668679200-1668697200@ruokaketjuelli.fi
SUMMARY:Palveluiden myynti
DESCRIPTION:Teams-etäkoulutus. Kesto 4 h\, hinta 30 € (sis. koulutuksen ja materiaalit). Asiantuntija: Jouni Ortju \n\n\n\nOhjelmaLataa\n\n\n\nEsittelyvideo
URL:https://ruokaketjuelli.fi/tapahtumat/palveluiden-myynti/
END:VEVENT
BEGIN:VEVENT
DTSTART;TZID=Europe/Helsinki:20221109T000000
DTEND;TZID=Europe/Helsinki:20221110T235959
DTSTAMP:20260424T132148
CREATED:20221012T083941Z
LAST-MODIFIED:20221012T083941Z
UID:1306-1667952000-1668124799@ruokaketjuelli.fi
SUMMARY:Opintomatka: Luonnontuotepäivät Mikkelissä
DESCRIPTION:Tervetuloa ELLI-hankkeen opintomatkalle valtakunnallisille Luonnontuotepäiville Mikkeliin! Tapahtuma on suunnattu luontoalan yrittäjille\, kouluttajille\, hankkeiden vetäjille\, kehittäjille\, rahoittajille sekä muille alasta kiinnostuneille. Osallistujien on mahdollista tuoda maksuttomalle yritys- ja hanketorille esille esitteitä ja tuotteita. \n\n\n\nOhjelmaLataa
URL:https://ruokaketjuelli.fi/tapahtumat/opintomatka-luonnontuotepaivat-mikkelissa/
END:VEVENT
BEGIN:VEVENT
DTSTART;TZID=Europe/Helsinki:20221108T100000
DTEND;TZID=Europe/Helsinki:20221108T150000
DTSTAMP:20260424T132148
CREATED:20221012T082036Z
LAST-MODIFIED:20221012T082816Z
UID:1292-1667901600-1667919600@ruokaketjuelli.fi
SUMMARY:Palvelujen markkinointi
DESCRIPTION:Teams-etäkoulutus. Kesto 4 h\, hinta 30 € (sis. koulutuksen ja materiaalit). Asiantuntija: Jouni Ortju \n\n\n\nOhjelmaLataa\n\n\n\nEsittelyvideo
URL:https://ruokaketjuelli.fi/tapahtumat/palvelujen-markkinointi/
END:VEVENT
BEGIN:VEVENT
DTSTART;TZID=Europe/Helsinki:20221107T130000
DTEND;TZID=Europe/Helsinki:20221107T160000
DTSTAMP:20260424T132148
CREATED:20221012T083206Z
LAST-MODIFIED:20221012T083604Z
UID:1301-1667826000-1667836800@ruokaketjuelli.fi
SUMMARY:Teams-info: Ajankohtaista elintarvikesektorilla (3 h)
DESCRIPTION:Teams-etäkoulutus\, kesto 3 h\, hinta 20 € (sis. koulutuksen ja materiaalit) Asiantuntija: Jaana Elo \n\n\n\nOhjelmaLataa
URL:https://ruokaketjuelli.fi/tapahtumat/teams-info-elintarvikealan-lainsaadannon-muutoksista-pakkausmerkinnoista-ja-pakastekuivauspakkauksista/
END:VEVENT
BEGIN:VEVENT
DTSTART;TZID=Europe/Helsinki:20221103T100000
DTEND;TZID=Europe/Helsinki:20221103T150000
DTSTAMP:20260424T132148
CREATED:20221012T081203Z
LAST-MODIFIED:20221012T081608Z
UID:1286-1667469600-1667487600@ruokaketjuelli.fi
SUMMARY:Laatustandardit
DESCRIPTION:Teams-etäkoulutus. Kesto 4 h\, hinta 30 € (sis. koulutuksen ja materiaalit). Asiantuntija: Jouni Ortju \n\n\n\nOhjelmaLataa\n\n\n\nEsittelyvideo
URL:https://ruokaketjuelli.fi/tapahtumat/laatustandardit/
END:VEVENT
BEGIN:VEVENT
DTSTART;TZID=Europe/Helsinki:20221024T000000
DTEND;TZID=Europe/Helsinki:20221025T235959
DTSTAMP:20260424T132148
CREATED:20221012T084317Z
LAST-MODIFIED:20221012T084318Z
UID:1309-1666569600-1666742399@ruokaketjuelli.fi
SUMMARY:Opintomatka Keski-Suomeen
DESCRIPTION:Tervetuloa ELLI-hankkeen opintomatkalle Keski-Suomeen. Lähde mukaan tutustumaan alueen elintarvikeyrityksiin – saat uusia ideoita oman yrityksesi toimintaan\, tuotekehitykseen ja yhteistyömahdollisuuksiin. Tutustumiskohteina on idearikkaita\, kasvun eri vaiheissa olevia\, yhteistyökumppaneita hakevia yrityksiä. \n\n\n\nOhjelmaLataa
URL:https://ruokaketjuelli.fi/tapahtumat/opintomatka-keski-suomeen/
END:VEVENT
BEGIN:VEVENT
DTSTART;TZID=Europe/Helsinki:20221010T000000
DTEND;TZID=Europe/Helsinki:20221013T235959
DTSTAMP:20260424T132148
CREATED:20220818T121123Z
LAST-MODIFIED:20220922T164341Z
UID:1258-1665360000-1665705599@ruokaketjuelli.fi
SUMMARY:Jatkojalostus Pohjois-Italiassa
DESCRIPTION:Tervetuloa ELLI-hankkeen opintomatkalle Pohjois-Italiaan tutustumaan italialaiseen elintarvikealaan ja ruokakulttuuriin! Opintomatka suuntautuu Piemonten alueelle ja matkalla tutustutaan mm. Comon\, Cadoragon ja Alban jatkojalostaviin maito-\, juoma- ja liha-alan yrityksiin sekä vierailemme paikallisissa kaupoissa ja ravintoloissa. \n\n\n\n\n\n\n\nOhjelmaLataa
URL:https://ruokaketjuelli.fi/tapahtumat/jatkojalostus-pohjois-italiassa/
END:VEVENT
BEGIN:VEVENT
DTSTART;TZID=Europe/Helsinki:20220930T100000
DTEND;TZID=Europe/Helsinki:20220930T150000
DTSTAMP:20260424T132148
CREATED:20220818T120432Z
LAST-MODIFIED:20220818T120502Z
UID:1252-1664532000-1664550000@ruokaketjuelli.fi
SUMMARY:Tuotekehitystyöpaja: Ruusunmarjat (5 h)
DESCRIPTION:Tervetuloa Elinkeinoa ja liiketoimintaa ruokaketjussa – ELLI -hankkeen järjestämäänelintarvikealan koulutustilaisuuteen! Tuotekehitystyöpajassa on mahdollista kehittääeteenpäin omia reseptejä ja luoda uusia tuotteita asiantuntijan avustuksella. \n\n\n\nAika: 30.8.2022 klo 10–15Paikka: Riveria\, Niskalan opetuskeittiö 2\, Niskakatu 17\, Joensuu.Asiantuntija Jouko Martikainen\, Makutaituri \n\n\n\nOhjelmaLataa
URL:https://ruokaketjuelli.fi/tapahtumat/tuotekehitystyopaja-ruusunmarjat-5-h/
END:VEVENT
BEGIN:VEVENT
DTSTART;TZID=Europe/Helsinki:20220929T120000
DTEND;TZID=Europe/Helsinki:20220929T160000
DTSTAMP:20260424T132148
CREATED:20220818T120038Z
LAST-MODIFIED:20220823T100138Z
UID:1247-1664452800-1664467200@ruokaketjuelli.fi
SUMMARY:ELLI-hankkeen Viennin askeleet -valmennus
DESCRIPTION:Mietitkö kansainvälistymistä?Viennin askeleet -valmennus tarjoaa sinulle elintarvike- ja luonnontuotealan yrittäjäerinomaisen tilaisuuden pohtia yrityksesi kehittämisen suuntaa ja viitoittaa tietä kohtivientiä. Tervetuloa ELLI-hankkeen koulutukseen\, joka valmentaa yrityksiäkansainvälistymiseen! \n\n\n\nAika: 8.9.\, 15.9.\, 21.9. ja 29.9.2022 klo 12–16Paikka: Joensuun Tiedepuisto 4B-rakennus\, Mercurius\, Länsikatu 15\, JoensuuAsiantuntija: Hanne Husso\, Husso Consulting \n\n\n\nOhjelmaLataa
URL:https://ruokaketjuelli.fi/tapahtumat/elli-hankkeen-viennin-askeleet-valmennus-3/
END:VEVENT
BEGIN:VEVENT
DTSTART;TZID=Europe/Helsinki:20220921T120000
DTEND;TZID=Europe/Helsinki:20220921T160000
DTSTAMP:20260424T132148
CREATED:20220818T115805Z
LAST-MODIFIED:20220823T100336Z
UID:1244-1663761600-1663776000@ruokaketjuelli.fi
SUMMARY:ELLI-hankkeen Viennin askeleet -valmennus
DESCRIPTION:Mietitkö kansainvälistymistä?Viennin askeleet -valmennus tarjoaa sinulle elintarvike- ja luonnontuotealan yrittäjäerinomaisen tilaisuuden pohtia yrityksesi kehittämisen suuntaa ja viitoittaa tietä kohtivientiä. Tervetuloa ELLI-hankkeen koulutukseen\, joka valmentaa yrityksiäkansainvälistymiseen! \n\n\n\nAika: 8.9.\, 15.9.\, 21.9. ja 29.9.2022 klo 12–16Paikka: Joensuun Tiedepuisto 4B-rakennus\, Mercurius\, Länsikatu 15\, JoensuuAsiantuntija: Hanne Husso\, Husso Consulting \n\n\n\nOhjelmaLataa
URL:https://ruokaketjuelli.fi/tapahtumat/1244/
END:VEVENT
BEGIN:VEVENT
DTSTART;TZID=Europe/Helsinki:20220915T120000
DTEND;TZID=Europe/Helsinki:20220915T160000
DTSTAMP:20260424T132148
CREATED:20220818T115607Z
LAST-MODIFIED:20220823T100613Z
UID:1242-1663243200-1663257600@ruokaketjuelli.fi
SUMMARY:ELLI-hankkeen Viennin askeleet -valmennus
DESCRIPTION:Mietitkö kansainvälistymistä?Viennin askeleet -valmennus tarjoaa sinulle elintarvike- ja luonnontuotealan yrittäjäerinomaisen tilaisuuden pohtia yrityksesi kehittämisen suuntaa ja viitoittaa tietä kohtivientiä. Tervetuloa ELLI-hankkeen koulutukseen\, joka valmentaa yrityksiäkansainvälistymiseen! \n\n\n\nAika: 8.9.\, 15.9.\, 21.9. ja 29.9.2022 klo 12–16Paikka: Joensuun Tiedepuisto 4B-rakennus\, Mercurius\, Länsikatu 15\, JoensuuAsiantuntija: Hanne Husso\, Husso Consulting \n\n\n\nOhjelma_Lataa
URL:https://ruokaketjuelli.fi/tapahtumat/elli-hankkeen-viennin-askeleet-valmennus-2/
END:VEVENT
BEGIN:VEVENT
DTSTART;TZID=Europe/Helsinki:20220910T070000
DTEND;TZID=Europe/Helsinki:20220910T160000
DTSTAMP:20260424T132148
CREATED:20220818T121456Z
LAST-MODIFIED:20220826T130017Z
UID:1260-1662793200-1662825600@ruokaketjuelli.fi
SUMMARY:Lähiruokapäivä Joensuun kauppatorilla ja omilla tiloilla
DESCRIPTION:Lähiruokapäivänä juhlistetaan ruoantuottajia\, lähiruokaa ja maaseudun elämyksellisyyttä ympäri Suomea. Maakunnan viljelijät\, elämysmatkailun tuottajat sekä elintarvike- ja luonnontuotealan yrittäjät ja toimijat\, tervetuloa mukaan valtakunnalliseen Lähiruokapäivään 10.9.2022!Lähiruokapäivää voit viettää omalla tilalla tai yrityksessäsi ja se toteutetaan myös Joensuun kauppatorilla 10.9.2022 klo 7.00–16.00. \n\n\n\nTiedoteLataa
URL:https://ruokaketjuelli.fi/tapahtumat/lahiruokapaiva-joensuun-kauppatorilla-ja-omilla-tiloilla-2/
END:VEVENT
BEGIN:VEVENT
DTSTART;TZID=Europe/Helsinki:20220908T120000
DTEND;TZID=Europe/Helsinki:20220908T160000
DTSTAMP:20260424T132148
CREATED:20220818T114833Z
LAST-MODIFIED:20220823T100426Z
UID:1238-1662638400-1662652800@ruokaketjuelli.fi
SUMMARY:ELLI-hankkeen Viennin askeleet -valmennus
DESCRIPTION:Mietitkö kansainvälistymistä?Viennin askeleet -valmennus tarjoaa sinulle elintarvike- ja luonnontuotealan yrittäjäerinomaisen tilaisuuden pohtia yrityksesi kehittämisen suuntaa ja viitoittaa tietä kohtivientiä. Tervetuloa ELLI-hankkeen koulutukseen\, joka valmentaa yrityksiäkansainvälistymiseen! \n\n\n\nAika: 8.9.\, 15.9.\, 21.9. ja 29.9.2022 klo 12–16Paikka: Joensuun Tiedepuisto 4B-rakennus\, Mercurius\, Länsikatu 15\, JoensuuAsiantuntija: Hanne Husso\, Husso Consulting \n\n\n\nOhjelma_Lataa
URL:https://ruokaketjuelli.fi/tapahtumat/elli-hankkeen-viennin-askeleet-valmennus/
END:VEVENT
BEGIN:VEVENT
DTSTART;TZID=Europe/Helsinki:20220822T140000
DTEND;TZID=Europe/Helsinki:20220822T150000
DTSTAMP:20260424T132148
CREATED:20220818T120807Z
LAST-MODIFIED:20220818T120808Z
UID:1256-1661176800-1661180400@ruokaketjuelli.fi
SUMMARY:HYGIENIAPASSI
DESCRIPTION:Tervetuloa Elinkeinoa ja liiketoimintaa ruokaketjussa – ELLI-hankkeen järjestämäänhygieniapassitestiin.Aika: 22.8.2022 klo 14.00–15.00Paikka: Kolin Luontokeskus Ukko\, Ylä-kolintie 39\, 83960 Koli\, kokoushuone \n\n\n\nOHJELMALataa
URL:https://ruokaketjuelli.fi/tapahtumat/hygieniapassi/
END:VEVENT
BEGIN:VEVENT
DTSTART;TZID=Europe/Helsinki:20220603T080000
DTEND;TZID=Europe/Helsinki:20220603T160000
DTSTAMP:20260424T132148
CREATED:20220503T111410Z
LAST-MODIFIED:20220503T111411Z
UID:1212-1654243200-1654272000@ruokaketjuelli.fi
SUMMARY:Ensiapukoulutus elintarvikealan henkilöstölle
DESCRIPTION:Riverian Outokummun koulutusyksikkö luokka 216 a\, Lammenkatu 18\, Outokumpu. Kesto 16 h\, hinta 80 € (sis. koulutuksen harjoituksineen ja todistuksen). Asiantuntija: Tero Kuittinen. Ilmoittautuminen 16.5. mennessä anu.lavola@ufe.fi \n\n\n\n\n\n\n\nOhjelmaLataa
URL:https://ruokaketjuelli.fi/tapahtumat/ensiapukoulutus-elintarvikealan-henkilostolle/
END:VEVENT
BEGIN:VEVENT
DTSTART;TZID=Europe/Helsinki:20220531T120000
DTEND;TZID=Europe/Helsinki:20220531T170000
DTSTAMP:20260424T132148
CREATED:20220406T124807Z
LAST-MODIFIED:20220503T111206Z
UID:1173-1653998400-1654016400@ruokaketjuelli.fi
SUMMARY:Salaatit ja kylmät lisäkkeet lähiraaka-aineita hyödyntäen
DESCRIPTION:Käytäntö\, Riverian Niskalan opetuskeittiöt 1 ja 2\, Niskakatu 17 Joensuu. Kesto yht. 6 h\, Hinta 30 € (sis. koulutukset\, materiaalit ja raaka-aineet). Asiantuntijat: Jouko Martikainen ja Harri Muikku. Ilmoittautumiset 20.5. mennessä Anulle anu.lavola@uef.fi \n\n\n\n\n\n\n\nOhjelmaLataa
URL:https://ruokaketjuelli.fi/tapahtumat/salaatit-ja-kylmat-lisakkeet-lahiraaka-aineita-hyodyntaen-2/
END:VEVENT
BEGIN:VEVENT
DTSTART;TZID=Europe/Helsinki:20220530T080000
DTEND;TZID=Europe/Helsinki:20220530T170000
DTSTAMP:20260424T132148
CREATED:20220502T115302Z
LAST-MODIFIED:20220502T115303Z
UID:1205-1653897600-1653930000@ruokaketjuelli.fi
SUMMARY:Opintomatka Ilomantsiin
DESCRIPTION:Perinteitä\, lähiruokaa ja paikallisia jatkojalosteita. Tutustuminen Ilomantsin jatkojalostaviin yrityksiin\, Ravintola Parppeinpirtti ja Hermannin Viinitilan tislaamo. Opintomatkan hinta on 30 € (sis. bussimatkan\, aloituskahvit\, yritysesittelyt ja tuotemaistatukset). Bussimatkan aikana on lyhyitä infoja päivän teemaan liittyvistä asioista\, asiantuntijana Jaana Elo. \n\n\n\n\n\n\n\nOhjelmaLataa\n\n\n\nELLI-osallistujatietolomakeLataa
URL:https://ruokaketjuelli.fi/tapahtumat/opintomatka-ilomantsiin/
END:VEVENT
BEGIN:VEVENT
DTSTART;TZID=Europe/Helsinki:20220518T000000
DTEND;TZID=Europe/Helsinki:20220519T235959
DTSTAMP:20260424T132148
CREATED:20211217T144859Z
LAST-MODIFIED:20220427T132307Z
UID:1083-1652832000-1653004799@ruokaketjuelli.fi
SUMMARY:Opintomatka\, PacTec\, FoodTec & PlastExpo ja Gastro Helsinki.
DESCRIPTION:Elintarvike-\, pakkaus-\, muovialan sekä horeca-alan messut\, Messukeskus\, Helsinki. Hinta 40 €\, sisältää junamatkat. \n\n\n\n\n\n\n\nOpintomatkan ohjelmaLataa
URL:https://ruokaketjuelli.fi/tapahtumat/opintomatka-2/
END:VEVENT
BEGIN:VEVENT
DTSTART;TZID=Europe/Helsinki:20220503T110000
DTEND;TZID=Europe/Helsinki:20220503T150000
DTSTAMP:20260424T132148
CREATED:20220427T131812Z
LAST-MODIFIED:20220427T131813Z
UID:1194-1651575600-1651590000@ruokaketjuelli.fi
SUMMARY:Tuotekehitystyöpaja ”Tuunaa rieskasi”
DESCRIPTION:Valmisrieskojen täytteet ja esilletuonti. Riverian Niskala\, opetuskeittiö 1\, kesto yht. 4 h\, hinta 50 €/yritys (sisältää materiaali- ja raaka-aine kustannukset). Asiantuntija: Jouko Martikainen. \n\n\n\n\n\n\n\nOhjelmaLataa
URL:https://ruokaketjuelli.fi/tapahtumat/tuotekehitystyopaja-tuunaa-rieskasi/
END:VEVENT
BEGIN:VEVENT
DTSTART;TZID=Europe/Helsinki:20220428T130000
DTEND;TZID=Europe/Helsinki:20220428T170000
DTSTAMP:20260424T132148
CREATED:20220406T123848Z
LAST-MODIFIED:20220427T131527Z
UID:1164-1651150800-1651165200@ruokaketjuelli.fi
SUMMARY:Maakunnan parhaat kasvisruoat
DESCRIPTION:Käytäntö\, Riverian Niskalan opetuskeittiöt 1 ja 2\, Niskakatu 17 Joensuu. Kesto yht. 6 h\, Hinta 30 € (sis. koulutukset\, materiaalit ja raaka-aineet). Asiantuntijat: Jouko Martikainen ja Harri Muikku. Käytännön koulutukseen mahtuu mukaan 20 osallistujaa. Ilmoittautumiset 15.4. mennessä Anulle anu.lavola@uef.fi \n\n\n\n\n\n\n\n\n\nOhjelmaLataa
URL:https://ruokaketjuelli.fi/tapahtumat/maakunnan-parhaat-kasvisruoat-2/
END:VEVENT
BEGIN:VEVENT
DTSTART;TZID=Europe/Helsinki:20220419T130000
DTEND;TZID=Europe/Helsinki:20220419T150000
DTSTAMP:20260424T132148
CREATED:20220406T122100Z
LAST-MODIFIED:20220427T131411Z
UID:1158-1650373200-1650380400@ruokaketjuelli.fi
SUMMARY:Maakunnan parhaat kasvisruoat
DESCRIPTION:Teoria\, Teams-etäkoulutus. Torstai 28.4. klo 13 -17 Käytäntö\, Riverian Niskalan opetuskeittiöt 1 ja 2\, Niskakatu 17 Joensuu. Kesto yht. 6 h\, Hinta 30 € (sis. koulutukset\, materiaalit ja raaka-aineet). Asiantuntijat: Jouko Martikainen ja Harri Muikku. \n\n\n\n\n\nOhjelmaLataa
URL:https://ruokaketjuelli.fi/tapahtumat/maakunnan-parhaat-kasvisruoat/
END:VEVENT
BEGIN:VEVENT
DTSTART;TZID=Europe/Helsinki:20220328T000000
DTEND;TZID=Europe/Helsinki:20220331T235959
DTSTAMP:20260424T132148
CREATED:20211217T145141Z
LAST-MODIFIED:20220121T104349Z
UID:1085-1648425600-1648771199@ruokaketjuelli.fi
SUMMARY:Opintomatka - Gävle - Lähiruokaa ja matkailua
DESCRIPTION:Opintomatka suuntautuu Ruotsiin ja teemana on paikallinen lähiruoka sekä matkailun ja ruoan yhdistäminen. Tutustumiskohteina ruoka-\, juoma- ja matkailualan yritykset mm. Whiskikylä Mackmyra\, olutpanimot\, pienjuustolat ja tilapuodit.  \n\n\n\nAlustava hinta 450 €.Sitovat ilmoittautumiset 25.1.2022 mennessä Anulle anu.lavola@uef.fi. Asiantuntija: Jaana Elo. \n\n\n\nOhjelmaLataa
URL:https://ruokaketjuelli.fi/tapahtumat/opintomatka-gavle-lahiruokaa-ja-matkailua/
END:VEVENT
BEGIN:VEVENT
DTSTART;TZID=Europe/Helsinki:20220315T080000
DTEND;TZID=Europe/Helsinki:20220316T160000
DTSTAMP:20260424T132148
CREATED:20220225T083831Z
LAST-MODIFIED:20220225T083942Z
UID:1149-1647331200-1647446400@ruokaketjuelli.fi
SUMMARY:Erikoistuotteiden tuotekehitystyöpaja
DESCRIPTION:Mangalitza-rasva\, laardin valmistus\, pakkauksen testaus. Riverian Niskala\, opetuskeittiö 2\, kesto yht. 16 h\, hinta 50 €/yritys (sisältää materiaali- ja raaka-aine kustannukset). Asiantuntija: Jouko Martikainen \n\n\n\n\n\n\n\nOhjelmaLataa
URL:https://ruokaketjuelli.fi/tapahtumat/erikoistuotteiden-tuotekehitystyopaja/
END:VEVENT
BEGIN:VEVENT
DTSTART;TZID=Europe/Helsinki:20220217T100000
DTEND;TZID=Europe/Helsinki:20220217T150000
DTSTAMP:20260424T132148
CREATED:20211217T144633Z
LAST-MODIFIED:20220113T125225Z
UID:1081-1645092000-1645110000@ruokaketjuelli.fi
SUMMARY:Tuotekehityksellä herkullisia tuotteita maakunnan marjoista
DESCRIPTION:Tuotekehitysseminaari ja keskustelutilaisuus erityisesti maakunnan maito- ja marja-alan tuottajille ja jatkojalostajille. Paikallisten tuotteiden maistatusta.  \n\n\n\nJoensuun Tiedepuisto\, Garage-tila 3A-rakennus\, 3. krs. Kesto 5 h\, hinta 25 €. Yhteistyössä ELLIja Marjamaat 2 -hankkeet. Asiantuntijat: Ismo Ruutiainen ja Jaana Elo \n\n\n\n\n\n\n\n\n\nOhjelmaLataa
URL:https://ruokaketjuelli.fi/tapahtumat/tuotekehityksella-herkullisia-tuotteita-maakunnan-marjoista/
END:VEVENT
BEGIN:VEVENT
DTSTART;TZID=Europe/Helsinki:20220215T080000
DTEND;TZID=Europe/Helsinki:20220215T160000
DTSTAMP:20260424T132148
CREATED:20220113T124828Z
LAST-MODIFIED:20220113T124848Z
UID:1106-1644912000-1644940800@ruokaketjuelli.fi
SUMMARY:Kasvikset juotavaan muotoon. Tuotekehitystyöpaja
DESCRIPTION:Vihannekset\, juurekset\, hedelmät\, marjat ja sienet juomien raaka-aineina. Riverian Niskala\, opetuskeittiö 1\, kesto yht. 8 h\, hinta 50 €/yritys (sisältää materiaali- ja raaka-aine kustannukset). Asiantuntija: Jaana Elo. Ilmoittautuminen 7.2. mennessä Anulle anu.lavola@uef.fi. \n\n\n\n\n\n\n\nOhjelmaLataa
URL:https://ruokaketjuelli.fi/tapahtumat/kasvikset-juotavaan-muotoon-tuotekehitystyopaja/
END:VEVENT
BEGIN:VEVENT
DTSTART;TZID=Europe/Helsinki:20220126T130000
DTEND;TZID=Europe/Helsinki:20220126T150000
DTSTAMP:20260424T132148
CREATED:20211217T143809Z
LAST-MODIFIED:20211217T150951Z
UID:1075-1643202000-1643209200@ruokaketjuelli.fi
SUMMARY:Teams-info: REKO-renkaan perustaminen
DESCRIPTION:Microsoft Teams kautta\, kesto 2 h\, hinta 15 €. Asiantuntija: Jaana Elo \n\n\n\n Ilmoittumiset maanantaihin 24.1.2022 klo 16.00 mennessä palauttamalla liitteenä oleva osallistujatietolomake Anulle\, anu.lavola@uef.fi \n\n\n\nOhjelmaLataa\n\n\n\nELLI-osallistujatietolomakeLataa
URL:https://ruokaketjuelli.fi/tapahtumat/teams-info-reko-renkaan-perustaminen/
END:VEVENT
BEGIN:VEVENT
DTSTART;TZID=Europe/Helsinki:20220113T120000
DTEND;TZID=Europe/Helsinki:20220113T130000
DTSTAMP:20260424T132148
CREATED:20211217T143515Z
LAST-MODIFIED:20211217T150923Z
UID:1073-1642075200-1642078800@ruokaketjuelli.fi
SUMMARY:Teams-info maaseudun yritysten elpymisvaroista
DESCRIPTION:Tietoa haettavista investointituista mm. elintarvikepuolen kone- ja laiteinvestointeihin\, uuteen teknologiaan ja digitalisointiin. Asiantuntija: Tapani Mikkonen. \n\n\n\nIlmoittumiset tiistaihin 11.1.2021 klo 16.00 mennessä palauttamalla liitteenä oleva osallistujatietolomake Anulle\, anu.lavola@uef.fi \n\n\n\nOhjelmaLataa\n\n\n\nELLI-osallistujatietolomakeLataa
URL:https://ruokaketjuelli.fi/tapahtumat/teams-info-maaseudun-yritysten-elpymisvaroista/
END:VEVENT
BEGIN:VEVENT
DTSTART;TZID=Europe/Helsinki:20211111T083000
DTEND;TZID=Europe/Helsinki:20211112T170000
DTSTAMP:20260424T132148
CREATED:20210913T142636Z
LAST-MODIFIED:20210913T142637Z
UID:947-1636619400-1636736400@ruokaketjuelli.fi
SUMMARY:Maidosta jatkojalosteita II. Tuorejuustot (15 h)
DESCRIPTION:Tervetuloa Elinkeinoa ja liiketoimintaa ruokaketjussa – ELLI -hankkeen järjestämäänelintarvikealan koulutustilaisuuteen! Valmistamme maidosta erilaisilla menetelmillätuorejuustoja ja hapanmaitotuotteita. Koulutuksessa on mahdollisuus testata oman tilan maidon soveltuvuutta tuotteiden valmistukseen. Koulutus liittyy hankkeen koulutusohjelman jatkojalostustoiminnan osaamisen opintokokonaisuuteen. \n\n\n\n\n\n\n\nPäivien ohjelmaLataa
URL:https://ruokaketjuelli.fi/tapahtumat/maidosta-jatkojalosteita-ii-tuorejuustot-15-h/
END:VEVENT
BEGIN:VEVENT
DTSTART;TZID=Europe/Helsinki:20211108T100000
DTEND;TZID=Europe/Helsinki:20211108T110000
DTSTAMP:20260424T132148
CREATED:20211027T134358Z
LAST-MODIFIED:20211027T134359Z
UID:984-1636365600-1636369200@ruokaketjuelli.fi
SUMMARY:HYGIENIAPASSI Erityistilannetesti venäjän kielellä
DESCRIPTION:Tervetuloa Elinkeinoa ja liiketoimintaa ruokaketjussa – ELLI -hankkeen järjestämäänhygieniapassitesti -koulutukseen! Koulutus liittyy hankkeen koulutusohjelman laatuosaaminen opintokokonaisuuteen. \n\n\n\nHygieniapassitestin hinta on 185 € (sis. hygieniapassitestin ja Ruokaviraston hygieniapassin). ELLIhankkeen laskutus hygieniapassitestin jälkeen.Henkilöllisyys on todistettava testitilaisuudessa.Henkilöllisyystodistukseksi hyväksytään seuraavat alkuperäiset\, kuvalliset ja voimassa olevat asiakirjat: suomalainen henkilökortti\, passi\, ajokortti\, mopokortti\, Kelakortti sekä ulkomaalainen henkilökortti\, passi ja maahanmuuttoviraston myöntämä oleskelulupakortti ja oleskelukortti.Ilmoittautumiset 29.10.2021 mennessä marja-leena.hirvonen@riveria.fi \n\n\n\nLisätietojaLataa
URL:https://ruokaketjuelli.fi/tapahtumat/hygieniapassi-erityistilannetesti-venajan-kielella/
END:VEVENT
BEGIN:VEVENT
DTSTART;TZID=Europe/Helsinki:20211101T080000
DTEND;TZID=Europe/Helsinki:20211102T170000
DTSTAMP:20260424T132148
CREATED:20210913T143929Z
LAST-MODIFIED:20210927T122352Z
UID:954-1635753600-1635872400@ruokaketjuelli.fi
SUMMARY:Opintomatka: Pienjuustolakierros
DESCRIPTION:Tutustumiskierros Keski-Suomen pienjuustoloihin. Opintomatkalla saamme tietoa pienmeijeritoiminnasta ja erilaisten juustojen valmistuksesta\, vierailemme juustoloissa\, leipomoissa ja viinitilalla\, maistelemme yritysten tuotteita ja yövymme vanhassa kartanossa. Hinta 120 € (sis. bussimatkan\, majoituksen\, yritysesittelyt ja runsaat tuotemaistatukset). Samasta yrityksestä useammalle lähtijälle hinta on 100 €/hlö. Mukaan mahtuu 20 osallistujaa ja matka toteutuu 10 osallistujalla. Asiantuntija: Jussi Heinonen. \n\n\n\nIlmoittautumiset viimeistään 16.10.2021 Anulle\, anu.lavola@uef.fi (ilmoita myös erityisruokavalio). \n\n\n\nOpintomatkan ohjelmaLataa
URL:https://ruokaketjuelli.fi/tapahtumat/opintomatka-pienjuustolakierros/
END:VEVENT
END:VCALENDAR